BEGIN:VCALENDAR
VERSION:2.0
PRODID:-//Interpret Europe - ECPv6.15.20//NONSGML v1.0//EN
CALSCALE:GREGORIAN
METHOD:PUBLISH
X-WR-CALNAME:Interpret Europe
X-ORIGINAL-URL:https://interpret-europe.net
X-WR-CALDESC:Events for Interpret Europe
REFRESH-INTERVAL;VALUE=DURATION:PT1H
X-Robots-Tag:noindex
X-PUBLISHED-TTL:PT1H
BEGIN:VTIMEZONE
TZID:Europe/Helsinki
BEGIN:DAYLIGHT
TZOFFSETFROM:+0200
TZOFFSETTO:+0300
TZNAME:EEST
DTSTART:20230326T010000
END:DAYLIGHT
BEGIN:STANDARD
TZOFFSETFROM:+0300
TZOFFSETTO:+0200
TZNAME:EET
DTSTART:20231029T010000
END:STANDARD
BEGIN:DAYLIGHT
TZOFFSETFROM:+0200
TZOFFSETTO:+0300
TZNAME:EEST
DTSTART:20240331T010000
END:DAYLIGHT
BEGIN:STANDARD
TZOFFSETFROM:+0300
TZOFFSETTO:+0200
TZNAME:EET
DTSTART:20241027T010000
END:STANDARD
BEGIN:DAYLIGHT
TZOFFSETFROM:+0200
TZOFFSETTO:+0300
TZNAME:EEST
DTSTART:20250330T010000
END:DAYLIGHT
BEGIN:STANDARD
TZOFFSETFROM:+0300
TZOFFSETTO:+0200
TZNAME:EET
DTSTART:20251026T010000
END:STANDARD
END:VTIMEZONE
BEGIN:VEVENT
DTSTART;TZID=Europe/Helsinki:20241031T080000
DTEND;TZID=Europe/Helsinki:20241101T170000
DTSTAMP:20260419T184447
CREATED:20240423T105216Z
LAST-MODIFIED:20240423T105216Z
UID:11072-1730361600-1730480400@interpret-europe.net
SUMMARY:IA National Conference
DESCRIPTION:
URL:https://interpret-europe.net/ie-event/ia-national-conference/
CATEGORIES:HI events
ATTACH;FMTTYPE=image/webp:https://interpret-europe.net/wp-content/uploads/2024/04/Asset-4-300x84-1.webp
END:VEVENT
END:VCALENDAR