BEGIN:VCALENDAR
VERSION:2.0
PRODID:-//Interpret Europe - ECPv6.15.20//NONSGML v1.0//EN
CALSCALE:GREGORIAN
METHOD:PUBLISH
X-ORIGINAL-URL:https://interpret-europe.net
X-WR-CALDESC:Events for Interpret Europe
REFRESH-INTERVAL;VALUE=DURATION:PT1H
X-Robots-Tag:noindex
X-PUBLISHED-TTL:PT1H
BEGIN:VTIMEZONE
TZID:Europe/Helsinki
BEGIN:DAYLIGHT
TZOFFSETFROM:+0200
TZOFFSETTO:+0300
TZNAME:EEST
DTSTART:20230326T010000
END:DAYLIGHT
BEGIN:STANDARD
TZOFFSETFROM:+0300
TZOFFSETTO:+0200
TZNAME:EET
DTSTART:20231029T010000
END:STANDARD
BEGIN:DAYLIGHT
TZOFFSETFROM:+0200
TZOFFSETTO:+0300
TZNAME:EEST
DTSTART:20240331T010000
END:DAYLIGHT
BEGIN:STANDARD
TZOFFSETFROM:+0300
TZOFFSETTO:+0200
TZNAME:EET
DTSTART:20241027T010000
END:STANDARD
BEGIN:DAYLIGHT
TZOFFSETFROM:+0200
TZOFFSETTO:+0300
TZNAME:EEST
DTSTART:20250330T010000
END:DAYLIGHT
BEGIN:STANDARD
TZOFFSETFROM:+0300
TZOFFSETTO:+0200
TZNAME:EET
DTSTART:20251026T010000
END:STANDARD
END:VTIMEZONE
BEGIN:VEVENT
DTSTART;TZID=Europe/Helsinki:20240307T150000
DTEND;TZID=Europe/Helsinki:20240307T163000
DTSTAMP:20260426T042821
CREATED:20240307T072432Z
LAST-MODIFIED:20240307T072649Z
UID:10935-1709823600-1709829000@interpret-europe.net
SUMMARY:IE Webinar: Making it a part of us\, becoming part of it. How to approach heritage?
DESCRIPTION:What is heritage? All of us have different answers depending on the particular context we are involved in. Yet it is often impossible to describe the subject of our interpretive work properly without putting it into different boxes: Cultural/natural\, tangible/intangible\, ordinary/canonized. In this webinar\, we will set aside these and other similar categories and introduce a concept which can influence how we work with different phenomena. We will claim that heritage has a dual nature and that this duality influences how we perceive it and how it develops over time. If you would like to join for this webinar\, register here.\n\nÁrpád Bőczén is a Hungarian architect\, heritage manager\, DJ\, president of KÖME / Association of Cultural Heritage Managers\, IE country coordinator and certified trainer. He is a project manager\, researcher and professional consultant in different projects related to education\, communication\, surveying\, development and maintenance of all kinds of cultural heritage and heritage communities. His main interests are the relations between heritage\, landscape and cultural changes.
URL:https://interpret-europe.net/ie-event/ie-webinar-making-it-a-part-of-us-becoming-part-of-it-how-to-approach-heritage/
CATEGORIES:IE webinars
ATTACH;FMTTYPE=image/jpeg:https://interpret-europe.net/wp-content/uploads/2024/03/1709119634036-2-e1709796264658.jpg
END:VEVENT
END:VCALENDAR