BEGIN:VCALENDAR
VERSION:2.0
PRODID:-//Interpret Europe - ECPv6.15.20//NONSGML v1.0//EN
CALSCALE:GREGORIAN
METHOD:PUBLISH
X-ORIGINAL-URL:https://interpret-europe.net
X-WR-CALDESC:Events for Interpret Europe
REFRESH-INTERVAL;VALUE=DURATION:PT1H
X-Robots-Tag:noindex
X-PUBLISHED-TTL:PT1H
BEGIN:VTIMEZONE
TZID:Europe/Helsinki
BEGIN:DAYLIGHT
TZOFFSETFROM:+0200
TZOFFSETTO:+0300
TZNAME:EEST
DTSTART:20230326T010000
END:DAYLIGHT
BEGIN:STANDARD
TZOFFSETFROM:+0300
TZOFFSETTO:+0200
TZNAME:EET
DTSTART:20231029T010000
END:STANDARD
BEGIN:DAYLIGHT
TZOFFSETFROM:+0200
TZOFFSETTO:+0300
TZNAME:EEST
DTSTART:20240331T010000
END:DAYLIGHT
BEGIN:STANDARD
TZOFFSETFROM:+0300
TZOFFSETTO:+0200
TZNAME:EET
DTSTART:20241027T010000
END:STANDARD
BEGIN:DAYLIGHT
TZOFFSETFROM:+0200
TZOFFSETTO:+0300
TZNAME:EEST
DTSTART:20250330T010000
END:DAYLIGHT
BEGIN:STANDARD
TZOFFSETFROM:+0300
TZOFFSETTO:+0200
TZNAME:EET
DTSTART:20251026T010000
END:STANDARD
END:VTIMEZONE
BEGIN:VEVENT
DTSTART;TZID=Europe/Helsinki:20241126T150000
DTEND;TZID=Europe/Helsinki:20241126T160000
DTSTAMP:20260425T132543
CREATED:20241119T091132Z
LAST-MODIFIED:20241119T091704Z
UID:11599-1732633200-1732636800@interpret-europe.net
SUMMARY:IE Webinar: Inclusivity outside the classroom
DESCRIPTION:Tuesday 26 November 2024\, 15:00 CET \nIn our efforts to create more inclusive spaces\, it’s essential to ask: what does true inclusivity look like? This talk will delve into the principles and practices of inclusive environmental education\, with examples of both outstanding achievements and missed opportunities. Together\, we’ll explore the power of multisensory interpretation in making nature and science accessible to all. I will showcase the award-winning Cape Leopard Trust’s innovative approach with ‘Footprints in the Fynbos\,’ a resource tailored for various abilities and translated into multiple South African languages. This project integrates accessible materials like dyslexic-friendly fonts\, Braille\, audio\, and sign language\, enhancing literacy and environmental understanding for differently-abled children. A showcase of how science is communicated by breaking down barriers\, fostering inclusivity and a deeper connection to nature. If you would like to join for this webinar\, register here. \nChris Eksteen is a passionate advocate for people with disabilities. His dedication became apparent when he sought a suitable toy for a family friend’s young boy who had visual impairments. When requesting assistance from a toy store salesperson to locate toys for visually impaired children\, he was met with the response\, “Children who are blind do not play.” This disheartening encounter highlighted the widespread misunderstanding around people with disabilities. Motivated by this incident\, Chris pursued a master’s degree in environmental education. His studies revealed a broader exclusion of visually impaired individuals from environmental education in South Africa. Today Chris has 20 years of experience in the environmental education and conservation science sector\, with a deep understanding of the nonprofit world. He is especially passionate about monitoring and evaluation\, organizational development\, program rescue\, and strategic problem-solving. Currently\, he is the Chief Operations Officer for the Cape Leopard Trust in South Africa. \nPhoto Credits: NPR
URL:https://interpret-europe.net/ie-event/ie-webinar-inclusivity-outside-the-classroom/
LOCATION:Online
CATEGORIES:IE webinars
ATTACH;FMTTYPE=image/jpeg:https://interpret-europe.net/wp-content/uploads/2024/11/AccessibleMuseumsAroundTheWorld-e1732007607285.jpg
END:VEVENT
END:VCALENDAR