BEGIN:VCALENDAR
VERSION:2.0
PRODID:-//Interpret Europe - ECPv6.15.20//NONSGML v1.0//EN
CALSCALE:GREGORIAN
METHOD:PUBLISH
X-ORIGINAL-URL:https://interpret-europe.net
X-WR-CALDESC:Events for Interpret Europe
REFRESH-INTERVAL;VALUE=DURATION:PT1H
X-Robots-Tag:noindex
X-PUBLISHED-TTL:PT1H
BEGIN:VTIMEZONE
TZID:Europe/Helsinki
BEGIN:DAYLIGHT
TZOFFSETFROM:+0200
TZOFFSETTO:+0300
TZNAME:EEST
DTSTART:20250330T010000
END:DAYLIGHT
BEGIN:STANDARD
TZOFFSETFROM:+0300
TZOFFSETTO:+0200
TZNAME:EET
DTSTART:20251026T010000
END:STANDARD
BEGIN:DAYLIGHT
TZOFFSETFROM:+0200
TZOFFSETTO:+0300
TZNAME:EEST
DTSTART:20260329T010000
END:DAYLIGHT
BEGIN:STANDARD
TZOFFSETFROM:+0300
TZOFFSETTO:+0200
TZNAME:EET
DTSTART:20261025T010000
END:STANDARD
BEGIN:DAYLIGHT
TZOFFSETFROM:+0200
TZOFFSETTO:+0300
TZNAME:EEST
DTSTART:20270328T010000
END:DAYLIGHT
BEGIN:STANDARD
TZOFFSETFROM:+0300
TZOFFSETTO:+0200
TZNAME:EET
DTSTART:20271031T010000
END:STANDARD
END:VTIMEZONE
BEGIN:VEVENT
DTSTART;TZID=Europe/Helsinki:20260429T150000
DTEND;TZID=Europe/Helsinki:20260429T160000
DTSTAMP:20260426T032733
CREATED:20260424T145138Z
LAST-MODIFIED:20260424T150132Z
UID:13015-1777474800-1777478400@interpret-europe.net
SUMMARY:IE Webinar: Evaluation – What are we doing in Europe? 
DESCRIPTION:29 April at 15:00 CEST. \nWe would like to invite you to a discussion on evaluating heritage interpretation provisions\, taking place on the 29th of April at 15:00 CEST. \nEvaluation is an essential part of creating meaningful and effective heritage interpretation experiences. Whether you are assessing individual interpretation services\, temporary programmes\, or entire exhibitions\, understanding what works and what could be improved helps us better fulfill our purpose. \nWe would be very interested to hear about your approaches\, methods\, and findings. Are you evaluating visitor engagement\, learning outcomes\, emotional impact\, or overall visitor satisfaction? Do you rely on visitor surveys\, interviews\, observation\, feedback forms\, or more informal methods? How often do you carry out evaluations\, and how do the results influence your future planning? \nLet’s make use of the expertise within our network and exchange knowledge across countries and professional fields. Learning from one another’s successes\, challenges\, and practical experiences is what makes our community rich and rewarding. \nJoin us next week for an open and inspiring conversation\, and let’s explore together how evaluation can strengthen heritage interpretation across Europe and beyond. If you wish to take part in the webinar\, please register here at least one hour before the webinar begins. ***Please register using the same email address associated with your IE membership.***
URL:https://interpret-europe.net/ie-event/ie-webinar-evaluation-what-are-we-doing-in-europe/
LOCATION:Online
CATEGORIES:IE webinars
ATTACH;FMTTYPE=image/jpeg:https://interpret-europe.net/wp-content/uploads/2026/04/July25-IE-Webinar-FB-4.jpg
END:VEVENT
END:VCALENDAR