BEGIN:VCALENDAR
VERSION:2.0
PRODID:-//Interpret Europe - ECPv6.15.20//NONSGML v1.0//EN
CALSCALE:GREGORIAN
METHOD:PUBLISH
X-ORIGINAL-URL:https://interpret-europe.net
X-WR-CALDESC:Events for Interpret Europe
REFRESH-INTERVAL;VALUE=DURATION:PT1H
X-Robots-Tag:noindex
X-PUBLISHED-TTL:PT1H
BEGIN:VTIMEZONE
TZID:Europe/Helsinki
BEGIN:DAYLIGHT
TZOFFSETFROM:+0200
TZOFFSETTO:+0300
TZNAME:EEST
DTSTART:20250330T010000
END:DAYLIGHT
BEGIN:STANDARD
TZOFFSETFROM:+0300
TZOFFSETTO:+0200
TZNAME:EET
DTSTART:20251026T010000
END:STANDARD
BEGIN:DAYLIGHT
TZOFFSETFROM:+0200
TZOFFSETTO:+0300
TZNAME:EEST
DTSTART:20260329T010000
END:DAYLIGHT
BEGIN:STANDARD
TZOFFSETFROM:+0300
TZOFFSETTO:+0200
TZNAME:EET
DTSTART:20261025T010000
END:STANDARD
BEGIN:DAYLIGHT
TZOFFSETFROM:+0200
TZOFFSETTO:+0300
TZNAME:EEST
DTSTART:20270328T010000
END:DAYLIGHT
BEGIN:STANDARD
TZOFFSETFROM:+0300
TZOFFSETTO:+0200
TZNAME:EET
DTSTART:20271031T010000
END:STANDARD
END:VTIMEZONE
BEGIN:VEVENT
DTSTART;TZID=Europe/Helsinki:20260210T150000
DTEND;TZID=Europe/Helsinki:20260210T163000
DTSTAMP:20260424T232418
CREATED:20260206T080630Z
LAST-MODIFIED:20260206T080630Z
UID:12807-1770735600-1770741000@interpret-europe.net
SUMMARY:IE Webinar: West Coast Fossil Park communicates palaeoscience to the public
DESCRIPTION:10 February 2026\, 15:00 CET\nThe West Coast Fossil Park (WCFP) is an important centre for palaeontological research\, education\, and tourism. Located in a rehabilitated former phosphate mine\, the Park supports ongoing fossil research and opened to the public in September 1998. It initially operated as a partnership between Iziko Museum and BHP Billiton\, after which a trust was established and governance transferred to trustees appointed by Iziko Museum. \nFor its first 20 years\, the Park operated from a small visitor centre in the Chemfos Mine building\, approximately 1 km from the main dig site at E Quarry. \nIn 2018\, a new visitor centre funded by the National Lotteries Commission (NLC) opened within E Quarry\, about 250 m from the main excavation site led by Professor Roger Smith. The centre was designed to accommodate up to 500 visitors per day. \nThis online presentation outlines the history of the Park and highlights the operational challenges that must be addressed to ensure long-term sustainability. If you wish to take part in the webinar\, please register here at least one hour before the webinar begins. ***Please register using the same email address associated with your IE membership.*** \nPippa Haarhoff was born and educated in Zimbabwe and graduated in archaeology from the University of Cape Town. She joined the South African Museum (now Iziko Museum) in 1977\, working in the Cenozoic Palaeontology department on the Langebaanweg fossil collection under Dr Brett Hendey. She played a key role in initiating the Fossil Park project in 1992 and has managed the Park since its opening in 1998. \nWith a lifelong interest in birds developed during childhood on a farm\, Pippa later specialised in palaeo-ornithology\, inspired by the richness of fossil birds at Langebaanweg. Her research has contributed to discoveries that continue to refine existing theories\, and she emphasizes that fossils are essential to understanding how life on Earth has changed over time.
URL:https://interpret-europe.net/ie-event/ie-webinar-west-coast-fossil-park-communicates-palaeoscience-to-the-public/
LOCATION:Online
CATEGORIES:IE webinars
ATTACH;FMTTYPE=image/jpeg:https://interpret-europe.net/wp-content/uploads/2026/02/July25-IE-Webinar-FB.jpg
END:VEVENT
BEGIN:VEVENT
DTSTART;VALUE=DATE:20260226
DTEND;VALUE=DATE:20260228
DTSTAMP:20260424T232418
CREATED:20260103T133852Z
LAST-MODIFIED:20260212T170454Z
UID:12686-1772064000-1772236799@interpret-europe.net
SUMMARY:Learning Landscapes symposium
DESCRIPTION:As part of the joint Learning Landscapes initiative\, Interpret Europe and UNESCO are organising an online symposium\, which will take place on 26-27 February 2026. \nThe Role of Narratives in 21st Century Heritage Interpretation is an online symposium taking place on 26–27 February 2026 and a key event in Interpret Europe’s 2026 programme. It highlights the organisation’s commitment to fostering professional exchange and continuous learning within the heritage interpretation community. \nThe symposium brings together a rich programme of international contributors\, offering a wide range of perspectives\, case studies and reflections on narratives in heritage interpretation today. \nRegistration is open to Interpret Europe members:\nhttps://docs.google.com/forms/d/e/1FAIpQLScWLev2CcUGIS0MeKtW2hfoNA0FHLFXLkEk4d4OEbviv64Ycw/viewform \nFurther details on the programme\, presenters\, and abstracts are available on the dedicated symposium website:\nhttps://symposium.interpret-europe.net
URL:https://interpret-europe.net/ie-event/learning-landscapes-symposium/
CATEGORIES:Other events
ATTACH;FMTTYPE=image/jpeg:https://interpret-europe.net/wp-content/uploads/2025/12/IMG_20220222_114603-e1767448183815.jpg
END:VEVENT
END:VCALENDAR